BEGIN:VCALENDAR
VERSION:2.0
PRODID:-//hacksw/handcal//NONSGML v1.0//EN
BEGIN:VEVENT
SUMMARY:Nationale 2A Dames
UID:7874cdde-9905-4021-97d4-8efc9500141b
DTSTART:20260411T140000Z
DTEND:20260411T220000Z
LOCATION:Localisation   
CATEGORIES:Sportif
STATUS:
URL;VALUE=URI:https://www.cmatt.fr/evenements/2026/04/11/nationale-2a-dames-2442176
END:VEVENT
END:VCALENDAR
